Workbook
Name AXL_Debt: [1]AXL_BS!$B$65
Name AXL_Debt: [1]AXL_BS!$B$65
Name AXL_Debt: [1]AXL_BS!$B$65
Name BEA_Debt: #REF!
Name BWA_Debt: [1]BWA_BS!$B$111
Name BWA_Debt: [1]BWA_BS!$B$111
Name BWA_Debt: [1]BWA_BS!$B$111
Name DAN_Debt: [1]DAN_BS!$B$94
Name DAN_Debt: [1]DAN_BS!$B$94
Name DAN_Debt: [1]DAN_BS!$B$94
Name GNTX_NCI: [1]GNTX_LTM!$E$13
Name GNTX_NCI: [1]GNTX_LTM!$E$13
Name GNTX_NCI: [1]GNTX_LTM!$E$13
Name GNTX_Net_Debt: [1]GNTX_LTM!$E$11
Name GNTX_Net_Debt: [1]GNTX_LTM!$E$11
Name GNTX_Net_Debt: [1]GNTX_LTM!$E$11
Name GNTX_PS: [1]GNTX_LTM!$E$12
Name GNTX_PS: [1]GNTX_LTM!$E$12
Name GNTX_PS: [1]GNTX_LTM!$E$12
Name IQ_CH: 110000
Name IQ_CQ: 5000
Name IQ_CY: 10000
Name IQ_DAILY: 500000
Name IQ_FH: 100000
Name IQ_FQ: 500
Name IQ_FY: 1000
Name IQ_LTM: 2000
Name IQ_MONTH: 15000
Name IQ_NTM: 6000
Name IQ_WEEK: 50000
Name IQ_YTD: 3000
Name Krispy_Cash_LQ: [2]KKD_BS_LQ!$B$3
Name Krispy_Cash_LQ: [2]KKD_BS_LQ!$B$3
Name Krispy_Cash_LQ: [2]KKD_BS_LQ!$B$3
Name Krispy_EBITDA_LTM: [2]KKD_LTM!$E$6
Name Krispy_EBITDA_LTM: [2]KKD_LTM!$E$6
Name Krispy_EBITDA_LTM: [2]KKD_LTM!$E$6
Name LEA_Debt: [1]LEA_BS!$B$58
Name LEA_Debt: [1]LEA_BS!$B$58
Name LEA_Debt: [1]LEA_BS!$B$58
Name TAP_LTM: #REF!
Name THRM_Debt: [1]THRM_BS!$B$78
Name THRM_Debt: [1]THRM_BS!$B$78
Name THRM_Debt: [1]THRM_BS!$B$78
Name VC_Debt: [1]VC_BS!$B$109
Name VC_Debt: [1]VC_BS!$B$109
Name VC_Debt: [1]VC_BS!$B$109

Sheet Title

Sheet Ratio Analysis
A1: FINANCIAL RATIOS
A2: Financial Ratios | B2: 2020 | C2: 2021 | D2: 2022 | E2: 2023 | F2: 2024 | G2: Peer Average 2024 | I2: Index/Match Function Inputs for Ratios
A3: Liquidity | I3: Liquidity
A4: Current Ratio | B4: =INDEX('Balance Sheet'!$A$10:$F$64,MATCH('Ratio Analysis'!$J$4,'Balance Sheet'!$A$10:$A$64,0),MATCH('Ratio Analysis'!B$2,'Balance Sheet'!$A$11:$F$11,0))/INDEX('Balance Sheet'!$A$10:$F$64,MATCH('Ratio Analysis'!$K$4,'Balance Sheet'!$A$10:$A$64,0),MATCH('Ratio Analysis'!B$2,'Balance Sheet'!$A$11:$F$11,0)) -> 0.61868222 | C4: =INDEX('Balance Sheet'!$A$10:$F$64,MATCH('Ratio Analysis'!$J$4,'Balance Sheet'!$A$10:$A$64,0),MATCH('Ratio Analysis'!C$2,'Balance Sheet'!$A$11:$F$11,0))/INDEX('Balance Sheet'!$A$10:$F$64,MATCH('Ratio Analysis'!$K$4,'Balance Sheet'!$A$10:$A$64,0),MATCH('Ratio Analysis'!C$2,'Balance Sheet'!$A$11:$F$11,0)) -> 0.76713047 | D4: =INDEX('Balance Sheet'!$A$10:$F$64,MATCH('Ratio Analysis'!$J$4,'Balance Sheet'!$A$10:$A$64,0),MATCH('Ratio Analysis'!D$2,'Balance Sheet'!$A$11:$F$11,0))/INDEX('Balance Sheet'!$A$10:$F$64,MATCH('Ratio Analysis'!$K$4,'Balance Sheet'!$A$10:$A$64,0),MATCH('Ratio Analysis'!D$2,'Balance Sheet'!$A$11:$F$11,0)) -> 0.781537 | E4: =INDEX('Balance Sheet'!$A$10:$F$64,MATCH('Ratio Analysis'!$J$4,'Balance Sheet'!$A$10:$A$64,0),MATCH('Ratio Analysis'!E$2,'Balance Sheet'!$A$11:$F$11,0))/INDEX('Balance Sheet'!$A$10:$F$64,MATCH('Ratio Analysis'!$K$4,'Balance Sheet'!$A$10:$A$64,0),MATCH('Ratio Analysis'!E$2,'Balance Sheet'!$A$11:$F$11,0)) -> 0.69601231 | F4: =INDEX('Balance Sheet'!$A$10:$F$64,MATCH('Ratio Analysis'!$J$4,'Balance Sheet'!$A$10:$A$64,0),MATCH('Ratio Analysis'!F$2,'Balance Sheet'!$A$11:$F$11,0))/INDEX('Balance Sheet'!$A$10:$F$64,MATCH('Ratio Analysis'!$K$4,'Balance Sheet'!$A$10:$A$64,0),MATCH('Ratio Analysis'!F$2,'Balance Sheet'!$A$11:$F$11,0)) -> 0.9353737 | G4: =AVERAGE(B29,B43,B57,B71) -> 1.1124197 | I4: Current Ratio | J4: Total Current Assets | K4: Total Current Liabilities
A5: Quick Ratio | B5: =(INDEX('Balance Sheet'!$A$10:$F$64,MATCH('Ratio Analysis'!$J$5,'Balance Sheet'!$A$10:$A$64,0),MATCH('Ratio Analysis'!B$2,'Balance Sheet'!$A$11:$F$11,0))-INDEX('Balance Sheet'!$A$10:$F$64,MATCH('Ratio Analysis'!$K$5,'Balance Sheet'!$A$10:$A$64,0),MATCH('Ratio Analysis'!B$2,'Balance Sheet'!$A$11:$F$11,0)))/INDEX('Balance Sheet'!$A$10:$F$64,MATCH('Ratio Analysis'!$L$5,'Balance Sheet'!$A$10:$A$64,0),MATCH('Ratio Analysis'!B$2,'Balance Sheet'!$A$11:$F$11,0)) -> 0.44876714 | C5: =(INDEX('Balance Sheet'!$A$10:$F$64,MATCH('Ratio Analysis'!$J$5,'Balance Sheet'!$A$10:$A$64,0),MATCH('Ratio Analysis'!C$2,'Balance Sheet'!$A$11:$F$11,0))-INDEX('Balance Sheet'!$A$10:$F$64,MATCH('Ratio Analysis'!$K$5,'Balance Sheet'!$A$10:$A$64,0),MATCH('Ratio Analysis'!C$2,'Balance Sheet'!$A$11:$F$11,0)))/INDEX('Balance Sheet'!$A$10:$F$64,MATCH('Ratio Analysis'!$L$5,'Balance Sheet'!$A$10:$A$64,0),MATCH('Ratio Analysis'!C$2,'Balance Sheet'!$A$11:$F$11,0)) -> 0.54497267 | D5: =(INDEX('Balance Sheet'!$A$10:$F$64,MATCH('Ratio Analysis'!$J$5,'Balance Sheet'!$A$10:$A$64,0),MATCH('Ratio Analysis'!D$2,'Balance Sheet'!$A$11:$F$11,0))-INDEX('Balance Sheet'!$A$10:$F$64,MATCH('Ratio Analysis'!$K$5,'Balance Sheet'!$A$10:$A$64,0),MATCH('Ratio Analysis'!D$2,'Balance Sheet'!$A$11:$F$11,0)))/INDEX('Balance Sheet'!$A$10:$F$64,MATCH('Ratio Analysis'!$L$5,'Balance Sheet'!$A$10:$A$64,0),MATCH('Ratio Analysis'!D$2,'Balance Sheet'!$A$11:$F$11,0)) -> 0.54663151 | E5: =(INDEX('Balance Sheet'!$A$10:$F$64,MATCH('Ratio Analysis'!$J$5,'Balance Sheet'!$A$10:$A$64,0),MATCH('Ratio Analysis'!E$2,'Balance Sheet'!$A$11:$F$11,0))-INDEX('Balance Sheet'!$A$10:$F$64,MATCH('Ratio Analysis'!$K$5,'Balance Sheet'!$A$10:$A$64,0),MATCH('Ratio Analysis'!E$2,'Balance Sheet'!$A$11:$F$11,0)))/INDEX('Balance Sheet'!$A$10:$F$64,MATCH('Ratio Analysis'!$L$5,'Balance Sheet'!$A$10:$A$64,0),MATCH('Ratio Analysis'!E$2,'Balance Sheet'!$A$11:$F$11,0)) -> 0.49997557 | F5: =(INDEX('Balance Sheet'!$A$10:$F$64,MATCH('Ratio Analysis'!$J$5,'Balance Sheet'!$A$10:$A$64,0),MATCH('Ratio Analysis'!F$2,'Balance Sheet'!$A$11:$F$11,0))-INDEX('Balance Sheet'!$A$10:$F$64,MATCH('Ratio Analysis'!$K$5,'Balance Sheet'!$A$10:$A$64,0),MATCH('Ratio Analysis'!F$2,'Balance Sheet'!$A$11:$F$11,0)))/INDEX('Balance Sheet'!$A$10:$F$64,MATCH('Ratio Analysis'!$L$5,'Balance Sheet'!$A$10:$A$64,0),MATCH('Ratio Analysis'!F$2,'Balance Sheet'!$A$11:$F$11,0)) -> 0.69637462 | G5: =AVERAGE(B30,B44,B58,B72) -> 0.64284975 | I5: Quick Ratio | J5: Total Current Assets | K5: Inventory | L5: Total Current Liabilities
A7: Activity/Efficiency | I7: Activity/Efficiency
A8: Avg. Days Inventory Out. | B8: =365/(INDEX('Income Statement'!$A$10:$F$57,MATCH('Ratio Analysis'!$J$8,'Income Statement'!$A$10:$A$57,0),MATCH('Ratio Analysis'!B$2,'Income Statement'!$A$11:$F$11,0))/INDEX('Balance Sheet'!$A$10:$F$64,MATCH('Ratio Analysis'!$K$8,'Balance Sheet'!$A$10:$A$64,0),MATCH('Ratio Analysis'!B$2,'Balance Sheet'!$A$11:$F$11,0))) -> 41.390468 | C8: =365/(INDEX('Income Statement'!$A$10:$F$57,MATCH('Ratio Analysis'!$J$8,'Income Statement'!$A$10:$A$57,0),MATCH('Ratio Analysis'!C$2,'Income Statement'!$A$11:$F$11,0))/INDEX('Balance Sheet'!$A$10:$F$64,MATCH('Ratio Analysis'!$K$8,'Balance Sheet'!$A$10:$A$64,0),MATCH('Ratio Analysis'!C$2,'Balance Sheet'!$A$11:$F$11,0))) -> 47.173361 | D8: =365/(INDEX('Income Statement'!$A$10:$F$57,MATCH('Ratio Analysis'!$J$8,'Income Statement'!$A$10:$A$57,0),MATCH('Ratio Analysis'!D$2,'Income Statement'!$A$11:$F$11,0))/INDEX('Balance Sheet'!$A$10:$F$64,MATCH('Ratio Analysis'!$K$8,'Balance Sheet'!$A$10:$A$64,0),MATCH('Ratio Analysis'!D$2,'Balance Sheet'!$A$11:$F$11,0))) -> 41.075321 | E8: =365/(INDEX('Income Statement'!$A$10:$F$57,MATCH('Ratio Analysis'!$J$8,'Income Statement'!$A$10:$A$57,0),MATCH('Ratio Analysis'!E$2,'Income Statement'!$A$11:$F$11,0))/INDEX('Balance Sheet'!$A$10:$F$64,MATCH('Ratio Analysis'!$K$8,'Balance Sheet'!$A$10:$A$64,0),MATCH('Ratio Analysis'!E$2,'Balance Sheet'!$A$11:$F$11,0))) -> 39.932841 | F8: =365/(INDEX('Income Statement'!$A$10:$F$57,MATCH('Ratio Analysis'!$J$8,'Income Statement'!$A$10:$A$57,0),MATCH('Ratio Analysis'!F$2,'Income Statement'!$A$11:$F$11,0))/INDEX('Balance Sheet'!$A$10:$F$64,MATCH('Ratio Analysis'!$K$8,'Balance Sheet'!$A$10:$A$64,0),MATCH('Ratio Analysis'!F$2,'Balance Sheet'!$A$11:$F$11,0))) -> 37.448827 | G8: =AVERAGE(B31,B45,B59,B73) -> 82.023469 | I8: Avg. Days Inventory Out. | J8: Cost Of Goods Sold | K8: Inventory
A9: Avg. Days Sales Out. | B9: =365/(INDEX('Income Statement'!$A$10:$F$15,MATCH('Ratio Analysis'!$J$9,'Income Statement'!$A$10:$A$15,0),MATCH('Ratio Analysis'!B$2,'Income Statement'!$A$11:$F$11,0))/INDEX('Balance Sheet'!$A$10:$F$19,MATCH('Ratio Analysis'!$K$9,'Balance Sheet'!$A$10:$A$19,0),MATCH('Ratio Analysis'!$B$2,'Balance Sheet'!$A$11:$F$11,0))) -> 20.779366 | C9: =365/(INDEX('Income Statement'!$A$10:$F$15,MATCH('Ratio Analysis'!$J$9,'Income Statement'!$A$10:$A$15,0),MATCH('Ratio Analysis'!C$2,'Income Statement'!$A$11:$F$11,0))/INDEX('Balance Sheet'!$A$10:$F$19,MATCH('Ratio Analysis'!$K$9,'Balance Sheet'!$A$10:$A$19,0),MATCH('Ratio Analysis'!$B$2,'Balance Sheet'!$A$11:$F$11,0))) -> 19.514577 | D9: =365/(INDEX('Income Statement'!$A$10:$F$15,MATCH('Ratio Analysis'!$J$9,'Income Statement'!$A$10:$A$15,0),MATCH('Ratio Analysis'!D$2,'Income Statement'!$A$11:$F$11,0))/INDEX('Balance Sheet'!$A$10:$F$19,MATCH('Ratio Analysis'!$K$9,'Balance Sheet'!$A$10:$A$19,0),MATCH('Ratio Analysis'!$B$2,'Balance Sheet'!$A$11:$F$11,0))) -> 18.746285 | E9: =365/(INDEX('Income Statement'!$A$10:$F$15,MATCH('Ratio Analysis'!$J$9,'Income Statement'!$A$10:$A$15,0),MATCH('Ratio Analysis'!E$2,'Income Statement'!$A$11:$F$11,0))/INDEX('Balance Sheet'!$A$10:$F$19,MATCH('Ratio Analysis'!$K$9,'Balance Sheet'!$A$10:$A$19,0),MATCH('Ratio Analysis'!$B$2,'Balance Sheet'!$A$11:$F$11,0))) -> 17.142564 | F9: =365/(INDEX('Income Statement'!$A$10:$F$15,MATCH('Ratio Analysis'!$J$9,'Income Statement'!$A$10:$A$15,0),MATCH('Ratio Analysis'!F$2,'Income Statement'!$A$11:$F$11,0))/INDEX('Balance Sheet'!$A$10:$F$19,MATCH('Ratio Analysis'!$K$9,'Balance Sheet'!$A$10:$A$19,0),MATCH('Ratio Analysis'!$B$2,'Balance Sheet'!$A$11:$F$11,0))) -> 17.25329 | G9: =AVERAGE(B32,B46,B60,B74) -> 27.170988 | I9: Avg. Days Sales Out. | J9: Revenue | K9: Accounts Receivable
A10: Total Asset Turnover | B10: =INDEX('Income Statement'!$A$10:$F$15,MATCH('Ratio Analysis'!$J$10,'Income Statement'!$A$10:$A$15,0),MATCH('Ratio Analysis'!B$2,'Income Statement'!$A$11:$F$11,0))/INDEX('Balance Sheet'!$A$10:$F$35,MATCH('Ratio Analysis'!$K$10,'Balance Sheet'!$A$10:$A$35,0),MATCH('Ratio Analysis'!B$2,'Balance Sheet'!$A$11:$F$11,0)) -> 0.35322398 | C10: =INDEX('Income Statement'!$A$10:$F$15,MATCH('Ratio Analysis'!$J$10,'Income Statement'!$A$10:$A$15,0),MATCH('Ratio Analysis'!C$2,'Income Statement'!$A$11:$F$11,0))/INDEX('Balance Sheet'!$A$10:$F$35,MATCH('Ratio Analysis'!$K$10,'Balance Sheet'!$A$10:$A$35,0),MATCH('Ratio Analysis'!C$2,'Balance Sheet'!$A$11:$F$11,0)) -> 0.37219668 | D10: =INDEX('Income Statement'!$A$10:$F$15,MATCH('Ratio Analysis'!$J$10,'Income Statement'!$A$10:$A$15,0),MATCH('Ratio Analysis'!D$2,'Income Statement'!$A$11:$F$11,0))/INDEX('Balance Sheet'!$A$10:$F$35,MATCH('Ratio Analysis'!$K$10,'Balance Sheet'!$A$10:$A$35,0),MATCH('Ratio Analysis'!D$2,'Balance Sheet'!$A$11:$F$11,0)) -> 0.41367233 | E10: =INDEX('Income Statement'!$A$10:$F$15,MATCH('Ratio Analysis'!$J$10,'Income Statement'!$A$10:$A$15,0),MATCH('Ratio Analysis'!E$2,'Income Statement'!$A$11:$F$11,0))/INDEX('Balance Sheet'!$A$10:$F$35,MATCH('Ratio Analysis'!$K$10,'Balance Sheet'!$A$10:$A$35,0),MATCH('Ratio Analysis'!E$2,'Balance Sheet'!$A$11:$F$11,0)) -> 0.44367983 | F10: =INDEX('Income Statement'!$A$10:$F$15,MATCH('Ratio Analysis'!$J$10,'Income Statement'!$A$10:$A$15,0),MATCH('Ratio Analysis'!F$2,'Income Statement'!$A$11:$F$11,0))/INDEX('Balance Sheet'!$A$10:$F$35,MATCH('Ratio Analysis'!$K$10,'Balance Sheet'!$A$10:$A$35,0),MATCH('Ratio Analysis'!F$2,'Balance Sheet'!$A$11:$F$11,0)) -> 0.4460891 | G10: =AVERAGE(B33,B47,B61,B75) -> 0.68150225 | I10: Total Asset Turnover | J10: Revenue | K10: Total Assets
A12: Leverage/Coverage | I12: Leverage/Coverage
A13: Total Debt Ratio | B13: =(INDEX('Balance Sheet'!$A$10:$F$64,MATCH('Ratio Analysis'!$J$13,'Balance Sheet'!$A$10:$A$64,0),MATCH('Ratio Analysis'!B$2,'Balance Sheet'!$A$11:$F$11,0))-INDEX('Balance Sheet'!$A$10:$F$64,MATCH('Ratio Analysis'!$K$13,'Balance Sheet'!$A$10:$A$64,0),MATCH('Ratio Analysis'!B$2,'Balance Sheet'!$A$11:$F$11,0)))/INDEX('Balance Sheet'!$A$10:$F$64,MATCH('Ratio Analysis'!$J$13,'Balance Sheet'!$A$10:$A$64,0),MATCH('Ratio Analysis'!B$2,'Balance Sheet'!$A$11:$F$11,0)) -> 0.53820739 | C13: =(INDEX('Balance Sheet'!$A$10:$F$64,MATCH('Ratio Analysis'!$J$13,'Balance Sheet'!$A$10:$A$64,0),MATCH('Ratio Analysis'!C$2,'Balance Sheet'!$A$11:$F$11,0))-INDEX('Balance Sheet'!$A$10:$F$64,MATCH('Ratio Analysis'!$K$13,'Balance Sheet'!$A$10:$A$64,0),MATCH('Ratio Analysis'!C$2,'Balance Sheet'!$A$11:$F$11,0)))/INDEX('Balance Sheet'!$A$10:$F$64,MATCH('Ratio Analysis'!$J$13,'Balance Sheet'!$A$10:$A$64,0),MATCH('Ratio Analysis'!C$2,'Balance Sheet'!$A$11:$F$11,0)) -> 0.50526449 | D13: =(INDEX('Balance Sheet'!$A$10:$F$64,MATCH('Ratio Analysis'!$J$13,'Balance Sheet'!$A$10:$A$64,0),MATCH('Ratio Analysis'!D$2,'Balance Sheet'!$A$11:$F$11,0))-INDEX('Balance Sheet'!$A$10:$F$64,MATCH('Ratio Analysis'!$K$13,'Balance Sheet'!$A$10:$A$64,0),MATCH('Ratio Analysis'!D$2,'Balance Sheet'!$A$11:$F$11,0)))/INDEX('Balance Sheet'!$A$10:$F$64,MATCH('Ratio Analysis'!$J$13,'Balance Sheet'!$A$10:$A$64,0),MATCH('Ratio Analysis'!D$2,'Balance Sheet'!$A$11:$F$11,0)) -> 0.50073256 | E13: =(INDEX('Balance Sheet'!$A$10:$F$64,MATCH('Ratio Analysis'!$J$13,'Balance Sheet'!$A$10:$A$64,0),MATCH('Ratio Analysis'!E$2,'Balance Sheet'!$A$11:$F$11,0))-INDEX('Balance Sheet'!$A$10:$F$64,MATCH('Ratio Analysis'!$K$13,'Balance Sheet'!$A$10:$A$64,0),MATCH('Ratio Analysis'!E$2,'Balance Sheet'!$A$11:$F$11,0)))/INDEX('Balance Sheet'!$A$10:$F$64,MATCH('Ratio Analysis'!$J$13,'Balance Sheet'!$A$10:$A$64,0),MATCH('Ratio Analysis'!E$2,'Balance Sheet'!$A$11:$F$11,0)) -> 0.49061425 | F13: =(INDEX('Balance Sheet'!$A$10:$F$64,MATCH('Ratio Analysis'!$J$13,'Balance Sheet'!$A$10:$A$64,0),MATCH('Ratio Analysis'!F$2,'Balance Sheet'!$A$11:$F$11,0))-INDEX('Balance Sheet'!$A$10:$F$64,MATCH('Ratio Analysis'!$K$13,'Balance Sheet'!$A$10:$A$64,0),MATCH('Ratio Analysis'!F$2,'Balance Sheet'!$A$11:$F$11,0)))/INDEX('Balance Sheet'!$A$10:$F$64,MATCH('Ratio Analysis'!$J$13,'Balance Sheet'!$A$10:$A$64,0),MATCH('Ratio Analysis'!F$2,'Balance Sheet'!$A$11:$F$11,0)) -> 0.4838649 | G13: =AVERAGE(B34,B48,B62,B76) -> 0.36924825 | I13: Total Debt Ratio | J13: Total Assets | K13: Total Equity
A14: Times Interest Earned | B14: =INDEX('Income Statement'!$A$10:$F$57,MATCH('Ratio Analysis'!$J$14,'Income Statement'!$A$10:$A$57,0),MATCH('Ratio Analysis'!B$2,'Income Statement'!$A$11:$F$11,0))/INDEX('Income Statement'!$A$10:$F$57,MATCH('Ratio Analysis'!$K$14,'Income Statement'!$A$10:$A$57,0),MATCH('Ratio Analysis'!B$2,'Income Statement'!$A$11:$F$11,0))*-1 -> 5.0589949 | C14: =INDEX('Income Statement'!$A$10:$F$57,MATCH('Ratio Analysis'!$J$14,'Income Statement'!$A$10:$A$57,0),MATCH('Ratio Analysis'!C$2,'Income Statement'!$A$11:$F$11,0))/INDEX('Income Statement'!$A$10:$F$57,MATCH('Ratio Analysis'!$K$14,'Income Statement'!$A$10:$A$57,0),MATCH('Ratio Analysis'!C$2,'Income Statement'!$A$11:$F$11,0))*-1 -> 5.9366116 | D14: =INDEX('Income Statement'!$A$10:$F$57,MATCH('Ratio Analysis'!$J$14,'Income Statement'!$A$10:$A$57,0),MATCH('Ratio Analysis'!D$2,'Income Statement'!$A$11:$F$11,0))/INDEX('Income Statement'!$A$10:$F$57,MATCH('Ratio Analysis'!$K$14,'Income Statement'!$A$10:$A$57,0),MATCH('Ratio Analysis'!D$2,'Income Statement'!$A$11:$F$11,0))*-1 -> 4.5051875 | E14: =INDEX('Income Statement'!$A$10:$F$57,MATCH('Ratio Analysis'!$J$14,'Income Statement'!$A$10:$A$57,0),MATCH('Ratio Analysis'!E$2,'Income Statement'!$A$11:$F$11,0))/INDEX('Income Statement'!$A$10:$F$57,MATCH('Ratio Analysis'!$K$14,'Income Statement'!$A$10:$A$57,0),MATCH('Ratio Analysis'!E$2,'Income Statement'!$A$11:$F$11,0))*-1 -> 6.8337607 | F14: =INDEX('Income Statement'!$A$10:$F$57,MATCH('Ratio Analysis'!$J$14,'Income Statement'!$A$10:$A$57,0),MATCH('Ratio Analysis'!F$2,'Income Statement'!$A$11:$F$11,0))/INDEX('Income Statement'!$A$10:$F$57,MATCH('Ratio Analysis'!$K$14,'Income Statement'!$A$10:$A$57,0),MATCH('Ratio Analysis'!F$2,'Income Statement'!$A$11:$F$11,0))*-1 -> 6.4057305 | G14: =AVERAGE(B35,B49,B77) -> 5.7229727 | I14: Times Interest Earned | J14: Operating Income | K14: Interest Expense
A16: Profitability | I16: Profitability
A17: Gross Margin % | B17: =INDEX('Income Statement'!$A$10:$F$57,MATCH('Ratio Analysis'!$J$17,'Income Statement'!$A$10:$A$57,0),MATCH('Ratio Analysis'!B$2,'Income Statement'!$A$11:$F$11,0))/INDEX('Income Statement'!$A$10:$F$57,MATCH('Ratio Analysis'!$K$17,'Income Statement'!$A$10:$A$57,0),MATCH('Ratio Analysis'!B$2,'Income Statement'!$A$11:$F$11,0)) -> 0.39319453 | C17: =INDEX('Income Statement'!$A$10:$F$57,MATCH('Ratio Analysis'!$J$17,'Income Statement'!$A$10:$A$57,0),MATCH('Ratio Analysis'!C$2,'Income Statement'!$A$11:$F$11,0))/INDEX('Income Statement'!$A$10:$F$57,MATCH('Ratio Analysis'!$K$17,'Income Statement'!$A$10:$A$57,0),MATCH('Ratio Analysis'!C$2,'Income Statement'!$A$11:$F$11,0)) -> 0.39431112 | D17: =INDEX('Income Statement'!$A$10:$F$57,MATCH('Ratio Analysis'!$J$17,'Income Statement'!$A$10:$A$57,0),MATCH('Ratio Analysis'!D$2,'Income Statement'!$A$11:$F$11,0))/INDEX('Income Statement'!$A$10:$F$57,MATCH('Ratio Analysis'!$K$17,'Income Statement'!$A$10:$A$57,0),MATCH('Ratio Analysis'!D$2,'Income Statement'!$A$11:$F$11,0)) -> 0.34157555 | E17: =INDEX('Income Statement'!$A$10:$F$57,MATCH('Ratio Analysis'!$J$17,'Income Statement'!$A$10:$A$57,0),MATCH('Ratio Analysis'!E$2,'Income Statement'!$A$11:$F$11,0))/INDEX('Income Statement'!$A$10:$F$57,MATCH('Ratio Analysis'!$K$17,'Income Statement'!$A$10:$A$57,0),MATCH('Ratio Analysis'!E$2,'Income Statement'!$A$11:$F$11,0)) -> 0.3733347 | F17: =INDEX('Income Statement'!$A$10:$F$57,MATCH('Ratio Analysis'!$J$17,'Income Statement'!$A$10:$A$57,0),MATCH('Ratio Analysis'!F$2,'Income Statement'!$A$11:$F$11,0))/INDEX('Income Statement'!$A$10:$F$57,MATCH('Ratio Analysis'!$K$17,'Income Statement'!$A$10:$A$57,0),MATCH('Ratio Analysis'!F$2,'Income Statement'!$A$11:$F$11,0)) -> 0.38990281 | G17: =AVERAGE(B36,B50,B64,B78) -> 0.46611775 | I17: Gross Margin % | J17: Gross Profit | K17: Revenue
A18: EBIT Margin % | B18: =INDEX('Income Statement'!$A$10:$F$28,MATCH('Ratio Analysis'!$J$18,'Income Statement'!$A$10:$A$28,0),MATCH('Ratio Analysis'!B$2,'Income Statement'!$A$11:$F$11,0))/INDEX('Income Statement'!$A$10:$F$28,MATCH('Ratio Analysis'!$K$18,'Income Statement'!$A$10:$A$28,0),MATCH('Ratio Analysis'!B$2,'Income Statement'!$A$11:$F$11,0)) -> 0.1438989 | C18: =INDEX('Income Statement'!$A$10:$F$28,MATCH('Ratio Analysis'!$J$18,'Income Statement'!$A$10:$A$28,0),MATCH('Ratio Analysis'!C$2,'Income Statement'!$A$11:$F$11,0))/INDEX('Income Statement'!$A$10:$F$28,MATCH('Ratio Analysis'!$K$18,'Income Statement'!$A$10:$A$28,0),MATCH('Ratio Analysis'!C$2,'Income Statement'!$A$11:$F$11,0)) -> 0.1503254 | D18: =INDEX('Income Statement'!$A$10:$F$28,MATCH('Ratio Analysis'!$J$18,'Income Statement'!$A$10:$A$28,0),MATCH('Ratio Analysis'!D$2,'Income Statement'!$A$11:$F$11,0))/INDEX('Income Statement'!$A$10:$F$28,MATCH('Ratio Analysis'!$K$18,'Income Statement'!$A$10:$A$28,0),MATCH('Ratio Analysis'!D$2,'Income Statement'!$A$11:$F$11,0)) -> 0.10550416 | E18: =INDEX('Income Statement'!$A$10:$F$28,MATCH('Ratio Analysis'!$J$18,'Income Statement'!$A$10:$A$28,0),MATCH('Ratio Analysis'!E$2,'Income Statement'!$A$11:$F$11,0))/INDEX('Income Statement'!$A$10:$F$28,MATCH('Ratio Analysis'!$K$18,'Income Statement'!$A$10:$A$28,0),MATCH('Ratio Analysis'!E$2,'Income Statement'!$A$11:$F$11,0)) -> 0.13665069 | F18: =INDEX('Income Statement'!$A$10:$F$28,MATCH('Ratio Analysis'!$J$18,'Income Statement'!$A$10:$A$28,0),MATCH('Ratio Analysis'!F$2,'Income Statement'!$A$11:$F$11,0))/INDEX('Income Statement'!$A$10:$F$28,MATCH('Ratio Analysis'!$K$18,'Income Statement'!$A$10:$A$28,0),MATCH('Ratio Analysis'!F$2,'Income Statement'!$A$11:$F$11,0)) -> 0.15574955 | G18: =AVERAGE(B37,B51,B65,B79) -> 0.19490425 | I18: EBIT Margin % | J18: Operating Income | K18: Revenue
A19: Return on Assets % | B19: =INDEX('Income Statement'!$A$10:$F$57,MATCH('Ratio Analysis'!$J$19,'Income Statement'!$A$10:$A$57,0),MATCH('Ratio Analysis'!B$2,'Income Statement'!$A$11:$F$11,0))/INDEX('Balance Sheet'!$A$10:$F$35,MATCH('Ratio Analysis'!$K$19,'Balance Sheet'!$A$10:$A$35,0),MATCH('Ratio Analysis'!B$2,'Balance Sheet'!$A$11:$F$11,0)) -> -0.034722349 | C19: =INDEX('Income Statement'!$A$10:$F$57,MATCH('Ratio Analysis'!$J$19,'Income Statement'!$A$10:$A$57,0),MATCH('Ratio Analysis'!C$2,'Income Statement'!$A$11:$F$11,0))/INDEX('Balance Sheet'!$A$10:$F$35,MATCH('Ratio Analysis'!$K$19,'Balance Sheet'!$A$10:$A$35,0),MATCH('Ratio Analysis'!C$2,'Balance Sheet'!$A$11:$F$11,0)) -> 0.036413339 | D19: =INDEX('Income Statement'!$A$10:$F$57,MATCH('Ratio Analysis'!$J$19,'Income Statement'!$A$10:$A$57,0),MATCH('Ratio Analysis'!D$2,'Income Statement'!$A$11:$F$11,0))/INDEX('Balance Sheet'!$A$10:$F$35,MATCH('Ratio Analysis'!$K$19,'Balance Sheet'!$A$10:$A$35,0),MATCH('Ratio Analysis'!D$2,'Balance Sheet'!$A$11:$F$11,0)) -> -0.0067766339 | E19: =INDEX('Income Statement'!$A$10:$F$57,MATCH('Ratio Analysis'!$J$19,'Income Statement'!$A$10:$A$57,0),MATCH('Ratio Analysis'!E$2,'Income Statement'!$A$11:$F$11,0))/INDEX('Balance Sheet'!$A$10:$F$35,MATCH('Ratio Analysis'!$K$19,'Balance Sheet'!$A$10:$A$35,0),MATCH('Ratio Analysis'!E$2,'Balance Sheet'!$A$11:$F$11,0)) -> 0.035977115 | F19: =INDEX('Income Statement'!$A$10:$F$57,MATCH('Ratio Analysis'!$J$19,'Income Statement'!$A$10:$A$57,0),MATCH('Ratio Analysis'!F$2,'Income Statement'!$A$11:$F$11,0))/INDEX('Balance Sheet'!$A$10:$F$35,MATCH('Ratio Analysis'!$K$19,'Balance Sheet'!$A$10:$A$35,0),MATCH('Ratio Analysis'!F$2,'Balance Sheet'!$A$11:$F$11,0)) -> 0.043062733 | G19: =AVERAGE(B38,B52,B66,B80) -> 0.059713 | I19: Return on Assets % | J19: Net Income | K19: Total Assets
A20: Return on Equity % | B20: =INDEX('Income Statement'!$A$10:$F$57,MATCH('Ratio Analysis'!$J$19,'Income Statement'!$A$10:$A$57,0),MATCH('Ratio Analysis'!B$2,'Income Statement'!$A$11:$F$11,0))/INDEX('Balance Sheet'!$A$10:$F$64,MATCH('Ratio Analysis'!$K$20,'Balance Sheet'!$A$10:$A$64,0),MATCH('Ratio Analysis'!B$2,'Balance Sheet'!$A$11:$F$11,0)) -> -0.075190353 | C20: =INDEX('Income Statement'!$A$10:$F$57,MATCH('Ratio Analysis'!$J$19,'Income Statement'!$A$10:$A$57,0),MATCH('Ratio Analysis'!C$2,'Income Statement'!$A$11:$F$11,0))/INDEX('Balance Sheet'!$A$10:$F$64,MATCH('Ratio Analysis'!$K$20,'Balance Sheet'!$A$10:$A$64,0),MATCH('Ratio Analysis'!C$2,'Balance Sheet'!$A$11:$F$11,0)) -> 0.073601628 | D20: =INDEX('Income Statement'!$A$10:$F$57,MATCH('Ratio Analysis'!$J$19,'Income Statement'!$A$10:$A$57,0),MATCH('Ratio Analysis'!D$2,'Income Statement'!$A$11:$F$11,0))/INDEX('Balance Sheet'!$A$10:$F$64,MATCH('Ratio Analysis'!$K$20,'Balance Sheet'!$A$10:$A$64,0),MATCH('Ratio Analysis'!D$2,'Balance Sheet'!$A$11:$F$11,0)) -> -0.013573154 | E20: =INDEX('Income Statement'!$A$10:$F$57,MATCH('Ratio Analysis'!$J$19,'Income Statement'!$A$10:$A$57,0),MATCH('Ratio Analysis'!E$2,'Income Statement'!$A$11:$F$11,0))/INDEX('Balance Sheet'!$A$10:$F$64,MATCH('Ratio Analysis'!$K$20,'Balance Sheet'!$A$10:$A$64,0),MATCH('Ratio Analysis'!E$2,'Balance Sheet'!$A$11:$F$11,0)) -> 0.070628429 | F20: =INDEX('Income Statement'!$A$10:$F$57,MATCH('Ratio Analysis'!$J$19,'Income Statement'!$A$10:$A$57,0),MATCH('Ratio Analysis'!F$2,'Income Statement'!$A$11:$F$11,0))/INDEX('Balance Sheet'!$A$10:$F$64,MATCH('Ratio Analysis'!$K$20,'Balance Sheet'!$A$10:$A$64,0),MATCH('Ratio Analysis'!F$2,'Balance Sheet'!$A$11:$F$11,0)) -> 0.083433065 | G20: =AVERAGE(B39,B53,B67,B81) -> 0.095207 | I20: Return on Equity % | J20: Net Income | K20: Total Equity
A21: Decompose ROE using Dupont Identity | I21: Decompose ROE using Dupont Identity
A22: Profit Margin | B22: ='Income Statement'!B57/'Income Statement'!B13 -> -0.098301222 | C22: ='Income Statement'!C57/'Income Statement'!C13 -> 0.097833594 | D22: ='Income Statement'!D57/'Income Statement'!D13 -> -0.016381647 | E22: ='Income Statement'!E57/'Income Statement'!E13 -> 0.08108801 | F22: ='Income Statement'!F57/'Income Statement'!F13 -> 0.09653393 | I22: Profit Margin | J22: Net Income | K22: Revenue
A23: Asset Turnover | B23: =B10 -> 0.35322398 | C23: =C10 -> 0.37219668 | D23: =D10 -> 0.41367233 | E23: =E10 -> 0.44367983 | F23: =F10 -> 0.4460891 | I23: Asset Turnover
A24: Equity Multipler | B24: ='Balance Sheet'!B35/'Balance Sheet'!B62 -> 2.1654742 | C24: ='Balance Sheet'!C35/'Balance Sheet'!C62 -> 2.021282 | D24: ='Balance Sheet'!D35/'Balance Sheet'!D62 -> 2.0029345 | E24: ='Balance Sheet'!E35/'Balance Sheet'!E62 -> 1.9631488 | F24: ='Balance Sheet'!F35/'Balance Sheet'!F62 -> 1.9374772 | I24: Equity Multipler | J24: Total Assets | K24: Total Equity
A25: ROE % | B25: =B22*B23*B24 -> -0.075190353 | C25: =C22*C23*C24 -> 0.073601628 | D25: =D22*D23*D24 -> -0.013573154 | E25: =E22*E23*E24 -> 0.070628429 | F25: =F22*F23*F24 -> 0.083433065 | I25: ROE %
A26: *Peer Group Consists Of: Heineken N.V. (ENXTAM:HEIA), Anheuser-Busch InBev SA/NV (ENXTBR:ABI), The Boston Beer Company, Inc. (NYSE:SAM), and Constellation Brands, Inc. (NYSE:STZ).
A28: Ratios Heinekein | B28: 2024
A29: Current Ratio | B29: =INDEX('Heineken Ratios'!$A$12:$F$159,MATCH('Ratio Analysis'!$A29,'Heineken Ratios'!$A$12:$A$159,0),MATCH('Ratio Analysis'!$F$2,'Heineken Ratios'!$A$13:$F$13,0)) -> 0.765486 | M29: Financial Ratios | N29: Coors 2024 | O29: Peer Average 2024
A30: Quick Ratio | B30: =INDEX('Heineken Ratios'!$A$12:$F$159,MATCH('Ratio Analysis'!$A30,'Heineken Ratios'!$A$12:$A$159,0),MATCH('Ratio Analysis'!$F$2,'Heineken Ratios'!$A$13:$F$13,0)) -> 0.459404 | M30: Avg. Days Inventory Out. | N30: 37.448827 | O30: 82.023469
A31: Avg. Days Inventory Out. | B31: =INDEX('Heineken Ratios'!$A$12:$F$159,MATCH('Ratio Analysis'!$A31,'Heineken Ratios'!$A$12:$A$159,0),MATCH('Ratio Analysis'!$F$2,'Heineken Ratios'!$A$13:$F$13,0)) -> 70.357644 | M31: Avg. Days Sales Out. | N31: 17.25329 | O31: 27.170988
A32: Avg. Days Sales Out. | B32: =INDEX('Heineken Ratios'!$A$12:$F$159,MATCH('Ratio Analysis'!$A32,'Heineken Ratios'!$A$12:$A$159,0),MATCH('Ratio Analysis'!$F$2,'Heineken Ratios'!$A$13:$F$13,0)) -> 39.894
A33: Total Asset Turnover | B33: =INDEX('Heineken Ratios'!$A$12:$F$159,MATCH('Ratio Analysis'!$A33,'Heineken Ratios'!$A$12:$A$159,0),MATCH('Ratio Analysis'!$F$2,'Heineken Ratios'!$A$13:$F$13,0)) -> 0.547546
A34: Total Debt Ratio | B34: =INDEX('Heineken Ratios'!$A$12:$F$159,MATCH('Ratio Analysis'!$A34,'Heineken Ratios'!$A$12:$A$159,0),MATCH('Ratio Analysis'!$F$2,'Heineken Ratios'!$A$13:$F$13,0)) -> 0.432156
A35: Times Interest Earned | B35: =INDEX('Heineken Ratios'!$A$12:$F$159,MATCH('Ratio Analysis'!$A35,'Heineken Ratios'!$A$12:$A$159,0),MATCH('Ratio Analysis'!$F$2,'Heineken Ratios'!$A$13:$F$13,0)) -> 5.660294
A36: Gross Margin % | B36: =INDEX('Heineken Ratios'!$A$12:$F$159,MATCH('Ratio Analysis'!$A36,'Heineken Ratios'!$A$12:$A$159,0),MATCH('Ratio Analysis'!$F$2,'Heineken Ratios'!$A$13:$F$13,0)) -> 0.363904
A37: EBIT Margin % | B37: =INDEX('Heineken Ratios'!$A$12:$F$159,MATCH('Ratio Analysis'!$A37,'Heineken Ratios'!$A$12:$A$159,0),MATCH('Ratio Analysis'!$F$2,'Heineken Ratios'!$A$13:$F$13,0)) -> 0.12907
A38: Return on Assets % | B38: =INDEX('Heineken Ratios'!$A$12:$F$159,MATCH('Ratio Analysis'!$A38,'Heineken Ratios'!$A$12:$A$159,0),MATCH('Ratio Analysis'!$F$2,'Heineken Ratios'!$A$13:$F$13,0)) -> 0.044169
A39: Return on Equity % | B39: =INDEX('Heineken Ratios'!$A$12:$F$159,MATCH('Ratio Analysis'!$A39,'Heineken Ratios'!$A$12:$A$159,0),MATCH('Ratio Analysis'!$F$2,'Heineken Ratios'!$A$13:$F$13,0)) -> 0.051381
A42: Ratios Constellation | B42: 2024
A43: Current Ratio | B43: =INDEX('Constellation Brands Ratios'!$A$12:$F$159,MATCH('Ratio Analysis'!$A43,'Constellation Brands Ratios'!$A$12:$A$159,0),MATCH('Ratio Analysis'!$F$2,'Constellation Brands Ratios'!$A$13:$F$13,0)) -> 1.187096
A44: Quick Ratio | B44: =INDEX('Constellation Brands Ratios'!$A$12:$F$159,MATCH('Ratio Analysis'!$A44,'Constellation Brands Ratios'!$A$12:$A$159,0),MATCH('Ratio Analysis'!$F$2,'Constellation Brands Ratios'!$A$13:$F$13,0)) -> 0.39243
A45: Avg. Days Inventory Out. | B45: =INDEX('Constellation Brands Ratios'!$A$12:$F$159,MATCH('Ratio Analysis'!$A45,'Constellation Brands Ratios'!$A$12:$A$159,0),MATCH('Ratio Analysis'!$F$2,'Constellation Brands Ratios'!$A$13:$F$13,0)) -> 147.30512
A46: Avg. Days Sales Out. | B46: =INDEX('Constellation Brands Ratios'!$A$12:$F$159,MATCH('Ratio Analysis'!$A46,'Constellation Brands Ratios'!$A$12:$A$159,0),MATCH('Ratio Analysis'!$F$2,'Constellation Brands Ratios'!$A$13:$F$13,0)) -> 31.861032
...

Sheet TAP_DCF
B2: Company Name | C2: Molson Coors
B3: Ticker | C3: TAP
B4: Share Price | C4: 44.26
B5: Valuation Date | C5: 45932
B7: =C2&" ("&C3&") DISCOUNTED CASH FLOWS MODEL" -> Molson Coors (TAP) DISCOUNTED CASH FLOWS MODEL
B8: Fiscal year ends in December USD in millions except per share data.
A10: x | B10: FORECASTING CASH FLOWS
F12: Historical | K12: Projected
F13: 2020 | G13: =F13+1 -> 2021 | H13: =G13+1 -> 2022 | I13: =H13+1 -> 2023 | J13: =I13+1 -> 2024 | K13: =J13+1 -> 2025 | L13: =K13+1 -> 2026 | M13: =L13+1 -> 2027 | N13: =M13+1 -> 2028 | O13: =N13+1 -> 2029
B14: Revenue | F14: =INDEX('Income Statement'!$A$10:$F$113,MATCH(TAP_DCF!$B14,'Income Statement'!$A$10:$A$113,0),MATCH(TAP_DCF!F$13,'Income Statement'!$A$11:$F$11)) -> 9654 | G14: =INDEX('Income Statement'!$A$10:$F$111,MATCH(TAP_DCF!$B14,'Income Statement'!$A$10:$A$111,0),MATCH(TAP_DCF!G$13,'Income Statement'!$A$11:$F$11)) -> 10279.7 | H14: =INDEX('Income Statement'!$A$10:$F$111,MATCH(TAP_DCF!$B14,'Income Statement'!$A$10:$A$111,0),MATCH(TAP_DCF!H$13,'Income Statement'!$A$11:$F$11)) -> 10701 | I14: =INDEX('Income Statement'!$A$10:$F$111,MATCH(TAP_DCF!$B14,'Income Statement'!$A$10:$A$111,0),MATCH(TAP_DCF!I$13,'Income Statement'!$A$11:$F$11)) -> 11702.1 | J14: =INDEX('Income Statement'!$A$10:$F$111,MATCH(TAP_DCF!$B14,'Income Statement'!$A$10:$A$111,0),MATCH(TAP_DCF!J$13,'Income Statement'!$A$11:$F$11)) -> 11627 | K14: =J14*(1+K32) -> 11603.746 | L14: =K14*(1+L32) -> 11615.35 | M14: =L14*(1+M32) -> 11661.811 | N14: =M14*(1+N32) -> 11743.444 | O14: =N14*(1+O32) -> 11860.878
B15: Cost Of Goods Sold | F15: =INDEX('Income Statement'!$A$10:$F$111,MATCH(TAP_DCF!$B15,'Income Statement'!$A$10:$A$111,0),MATCH(TAP_DCF!F$13,'Income Statement'!$A$11:$F$11)) -> 5858.1 | G15: =INDEX('Income Statement'!$A$10:$F$111,MATCH(TAP_DCF!$B15,'Income Statement'!$A$10:$A$111,0),MATCH(TAP_DCF!G$13,'Income Statement'!$A$11:$F$11)) -> 6226.3 | H15: =INDEX('Income Statement'!$A$10:$F$111,MATCH(TAP_DCF!$B15,'Income Statement'!$A$10:$A$111,0),MATCH(TAP_DCF!H$13,'Income Statement'!$A$11:$F$11)) -> 7045.8 | I15: =INDEX('Income Statement'!$A$10:$F$111,MATCH(TAP_DCF!$B15,'Income Statement'!$A$10:$A$111,0),MATCH(TAP_DCF!I$13,'Income Statement'!$A$11:$F$11)) -> 7333.3 | J15: =INDEX('Income Statement'!$A$10:$F$111,MATCH(TAP_DCF!$B15,'Income Statement'!$A$10:$A$111,0),MATCH(TAP_DCF!J$13,'Income Statement'!$A$11:$F$11)) -> 7093.6 | K15: =K14*K33 -> 7194.3225 | L15: =L14*L33 -> 7186.9977 | M15: =M14*M33 -> 7201.1684 | N15: =N14*N33 -> 7236.8973 | O15: =O14*O33 -> 7294.4401
B16: Gross Profit | F16: =F14-F15 -> 3795.9 | G16: =G14-G15 -> 4053.4 | H16: =H14-H15 -> 3655.2 | I16: =I14-I15 -> 4368.8 | J16: =J14-J15 -> 4533.4 | K16: =K14-K15 -> 4409.4235 | L16: =L14-L15 -> 4428.3521 | M16: =M14-M15 -> 4460.6428 | ... O16: =O14-O15 -> 4566.4381
B17: Selling General & Admin Exp. | F17: =INDEX('Income Statement'!$A$10:$F$111,MATCH(TAP_DCF!$B17,'Income Statement'!$A$10:$A$111,0),MATCH(TAP_DCF!F$13,'Income Statement'!$A$11:$F$11)) -> 2186.7 | G17: =INDEX('Income Statement'!$A$10:$F$111,MATCH(TAP_DCF!$B17,'Income Statement'!$A$10:$A$111,0),MATCH(TAP_DCF!G$13,'Income Statement'!$A$11:$F$11)) -> 2290.1 | H17: =INDEX('Income Statement'!$A$10:$F$111,MATCH(TAP_DCF!$B17,'Income Statement'!$A$10:$A$111,0),MATCH(TAP_DCF!H$13,'Income Statement'!$A$11:$F$11)) -> 2318.1 | I17: =INDEX('Income Statement'!$A$10:$F$111,MATCH(TAP_DCF!$B17,'Income Statement'!$A$10:$A$111,0),MATCH(TAP_DCF!I$13,'Income Statement'!$A$11:$F$11)) -> 2562.4 | J17: =INDEX('Income Statement'!$A$10:$F$111,MATCH(TAP_DCF!$B17,'Income Statement'!$A$10:$A$111,0),MATCH(TAP_DCF!J$13,'Income Statement'!$A$11:$F$11)) -> 2516.1 | K17: =K14*K34 -> 2518.0129 | L17: =L14*L34 -> 2523.4347 | M17: =M14*M34 -> 2536.4439 | N17: =N14*N34 -> 2557.1349 | O17: =O14*O34 -> 2585.6715
B18: Amort. of Goodwill and Intangibles | F18: =INDEX('Income Statement'!$A$10:$F$111,MATCH(TAP_DCF!$B18,'Income Statement'!$A$10:$A$111,0),MATCH(TAP_DCF!F$13,'Income Statement'!$A$11:$F$11)) -> 220 | G18: =INDEX('Income Statement'!$A$10:$F$111,MATCH(TAP_DCF!$B18,'Income Statement'!$A$10:$A$111,0),MATCH(TAP_DCF!G$13,'Income Statement'!$A$11:$F$11)) -> 218 | H18: =INDEX('Income Statement'!$A$10:$F$111,MATCH(TAP_DCF!$B18,'Income Statement'!$A$10:$A$111,0),MATCH(TAP_DCF!H$13,'Income Statement'!$A$11:$F$11)) -> 208.1 | I18: =INDEX('Income Statement'!$A$10:$F$111,MATCH(TAP_DCF!$B18,'Income Statement'!$A$10:$A$111,0),MATCH(TAP_DCF!I$13,'Income Statement'!$A$11:$F$11)) -> 207.3 | J18: =INDEX('Income Statement'!$A$10:$F$111,MATCH(TAP_DCF!$B18,'Income Statement'!$A$10:$A$111,0),MATCH(TAP_DCF!J$13,'Income Statement'!$A$11:$F$11)) -> 206.4 | K18: =K35*K14 -> 208.86743 | L18: =L35*L14 -> 211.98013 | M18: =M35*M14 -> 215.74351 | N18: =N35*N14 -> 220.18957 | O18: =O35*O14 -> 225.35669
B19: EBIT | F19: =F16-F17-F18 -> 1389.2 | G19: =G16-G17-G18 -> 1545.3 | H19: =H16-H17-H18 -> 1129 | I19: =I16-I17-I18 -> 1599.1 | J19: =J16-J17-J18 -> 1810.9 | K19: =K16-K17-K18 -> 1682.5432 | L19: =L16-L17-L18 -> 1692.9372 | M19: =M16-M17-M18 -> 1708.4553 | ... O19: =O16-O17-O18 -> 1755.41 | U19: Revenue Growth | V19: COGS (% of Revenue) | W19: SG&A (% of Revenue) | X19: Amortization of Goodwill and Intangibles (% of Revenue) | Y19: Depreciation and Amortization (% of Capex) | Z19: Capex (% of Revenue)
B20: Taxes | C20: 0.25 | F20: =F19*$C$20 -> 347.3 | G20: =G19*$C$20 -> 386.325 | H20: =H19*$C$20 -> 282.25 | I20: =I19*$C$20 -> 399.775 | J20: =J19*$C$20 -> 452.725 | K20: =K19*$C$20 -> 420.63579 | L20: =L19*$C$20 -> 423.23431 | M20: =M19*$C$20 -> 427.11383 | ... O20: =O19*$C$20 -> 438.8525 | T20: 2024 | U20: -0.006 | V20: 0.61 | W20: 0.216 | X20: 0.018 | Y20: 0.988 | Z20: 0.058
B21: Tax-effected EBIT | F21: =F19-F20 -> 1041.9 | G21: =G19-G20 -> 1158.975 | H21: =H19-H20 -> 846.75 | I21: =I19-I20 -> 1199.325 | J21: =J19-J20 -> 1358.175 | K21: =K19-K20 -> 1261.9074 | L21: =L19-L20 -> 1269.7029 | M21: =M19-M20 -> 1281.3415 | ... O21: =O19-O20 -> 1316.5575 | T21: 2029 | U21: 0.01 | V21: 0.615 | W21: 0.218 | X21: 0.019 | Y21: 1 | Z21: 0.06
B23: Depreciation & Amort., Total | F23: =INDEX('Income Statement'!$A$10:$F$113,MATCH(TAP_DCF!$B23,'Income Statement'!$A$10:$A$113,0),MATCH(TAP_DCF!F$13,'Income Statement'!$A$11:$F$11)) -> 809.7 | G23: =INDEX('Income Statement'!$A$10:$F$113,MATCH(TAP_DCF!$B23,'Income Statement'!$A$10:$A$113,0),MATCH(TAP_DCF!G$13,'Income Statement'!$A$11:$F$11)) -> 770.7 | H23: =INDEX('Income Statement'!$A$10:$F$113,MATCH(TAP_DCF!$B23,'Income Statement'!$A$10:$A$113,0),MATCH(TAP_DCF!H$13,'Income Statement'!$A$11:$F$11)) -> 684.8 | I23: =INDEX('Income Statement'!$A$10:$F$113,MATCH(TAP_DCF!$B23,'Income Statement'!$A$10:$A$113,0),MATCH(TAP_DCF!I$13,'Income Statement'!$A$11:$F$11)) -> 682.8 | J23: =INDEX('Income Statement'!$A$10:$F$113,MATCH(TAP_DCF!$B23,'Income Statement'!$A$10:$A$113,0),MATCH(TAP_DCF!J$13,'Income Statement'!$A$11:$F$11)) -> 665.8 | K23: =-K24*K36 -> 606.29573 | L23: =-L24*L36 -> 628.86229 | M23: =-M24*M36 -> 653.79029 | N23: =-N24*N36 -> 681.30323 | O23: =-O24*O36 -> 711.6527
B24: Capital Expenditure | F24: =INDEX('Income Statement'!$A$10:$F$113,MATCH(TAP_DCF!$B24,'Income Statement'!$A$10:$A$113,0),MATCH(TAP_DCF!F$13,'Income Statement'!$A$11:$F$11)) -> -574.8 | G24: =INDEX('Income Statement'!$A$10:$F$113,MATCH(TAP_DCF!$B24,'Income Statement'!$A$10:$A$113,0),MATCH(TAP_DCF!G$13,'Income Statement'!$A$11:$F$11)) -> -522.6 | H24: =INDEX('Income Statement'!$A$10:$F$113,MATCH(TAP_DCF!$B24,'Income Statement'!$A$10:$A$113,0),MATCH(TAP_DCF!H$13,'Income Statement'!$A$11:$F$11)) -> -661.4 | I24: =INDEX('Income Statement'!$A$10:$F$113,MATCH(TAP_DCF!$B24,'Income Statement'!$A$10:$A$113,0),MATCH(TAP_DCF!I$13,'Income Statement'!$A$11:$F$11)) -> -671.5 | J24: =INDEX('Income Statement'!$A$10:$F$113,MATCH(TAP_DCF!$B24,'Income Statement'!$A$10:$A$113,0),MATCH(TAP_DCF!J$13,'Income Statement'!$A$11:$F$11)) -> -674.1 | K24: =-K37*K14 -> -638.20603 | L24: =-L37*L14 -> -653.36342 | M24: =-M37*M14 -> -670.55414 | N24: =-N37*N14 -> -689.92732 | O24: =-O37*O14 -> -711.6527
B25: Change in Net Working Capital | G25: =-G73 -> -300.2 | H25: =-H73 -> 56.7 | I25: =-I73 -> 259.3 | J25: =-J73 -> -68.7 | K25: =-K73 -> -4.74413 | L25: =-L73 -> 9.8138682 | M25: =-M73 -> 13.195037 | N25: =-N73 -> 16.685136 | O25: =-O73 -> 20.316158
B26: Unlevered free cash flows | F26: =SUM(F21:F25) -> 1276.8 | G26: =SUM(G21:G25) -> 1106.875 | H26: =SUM(H21:H25) -> 926.85 | I26: =SUM(I21:I25) -> 1469.925 | J26: =SUM(J21:J25) -> 1281.175 | K26: =SUM(K21:K25) -> 1225.2529 | L26: =SUM(L21:L25) -> 1255.0157 | M26: =SUM(M21:M25) -> 1277.7727 | ... O26: =SUM(O21:O25) -> 1336.8736
F29: Historical | K29: Projected
F30: =F13 -> 2020 | G30: =F30+1 -> 2021 | H30: =G30+1 -> 2022 | I30: =H30+1 -> 2023 | J30: =I30+1 -> 2024 | K30: =J30+1 -> 2025 | L30: =K30+1 -> 2026 | M30: =L30+1 -> 2027 | N30: =M30+1 -> 2028 | O30: =N30+1 -> 2029
B31: Assumptions
B32: Revenue Growth | G32: =G14/F14-1 -> 0.064812513 | H32: =H14/G14-1 -> 0.040983686 | I32: =I14/H14-1 -> 0.093552004 | J32: =J14/I14-1 -> -0.0064176515 | K32: -0.002 | L32: =K32+$S$32 -> 0.001 | M32: =L32+$S$32 -> 0.004 | N32: =M32+$S$32 -> 0.007 | O32: =N32+$S$32 -> 0.01 | Q32: Step | R32: 0.01 | S32: =(R32-K32)/($O$30-$K$30) -> 0.003
B33: COGS (as a % of Revnue) | F33: =F15/F14 -> 0.60680547 | G33: =G15/G14 -> 0.60568888 | H33: =H15/H14 -> 0.65842445 | I33: =I15/I14 -> 0.6266653 | J33: =J15/J14 -> 0.61009719 | K33: 0.62 | L33: =K33+$S$33 -> 0.61875 | M33: =L33+$S$33 -> 0.6175 | N33: =M33+$S$33 -> 0.61625 | O33: =N33+$S$33 -> 0.615 | Q33: Step | R33: 0.615 | S33: =(R33-K33)/($O$30-$K$30) -> -0.00125
B34: SG&A (as a % of Revneue) | F34: =F17/F14 -> 0.22650715 | G34: =G17/G14 -> 0.22277887 | H34: =H17/H14 -> 0.21662461 | I34: =I17/I14 -> 0.21896924 | J34: =J17/J14 -> 0.21640148 | K34: 0.217 | L34: =K34+$S$34 -> 0.21725 | M34: =L34+$S$34 -> 0.2175 | N34: =M34+$S$34 -> 0.21775 | O34: =N34+$S$34 -> 0.218 | Q34: Step | R34: 0.218 | S34: =(R34-K34)/($O$30-$K$30) -> 0.00025
B35: Amort. (as a % of Revenue) | F35: =F18/F14 -> 0.022788481 | G35: =G18/G14 -> 0.021206845 | H35: =H18/H14 -> 0.019446781 | I35: =I18/I14 -> 0.017714769 | J35: =J18/J14 -> 0.017751785 | K35: 0.018 | L35: =K35+$S$35 -> 0.01825 | M35: =L35+$S$35 -> 0.0185 | N35: =M35+$S$35 -> 0.01875 | O35: =N35+$S$35 -> 0.019 | Q35: Step | R35: 0.019 | S35: =(R35-K35)/($O$30-$K$30) -> 0.00025
B36: Depreciation & Amort., Totals (as % of capex) | F36: =-F23/F24 -> 1.4086639 | G36: =-G23/G24 -> 1.4747417 | H36: =-H23/H24 -> 1.0353795 | I36: =-I23/I24 -> 1.016828 | J36: =-J23/J24 -> 0.98768729 | K36: 0.95 | L36: =K36+$S$36 -> 0.9625 | M36: =L36+$S$36 -> 0.975 | N36: =M36+$S$36 -> 0.9875 | O36: =N36+$S$36 -> 1 | Q36: Step | R36: 1 | S36: =(R36-K36)/($O$30-$K$30) -> 0.0125
B37: Capital Expenditure (as a % of Revenue) | F37: =-F24/F14 -> 0.059540087 | G37: =-G24/G14 -> 0.050838059 | H37: =-H24/H14 -> 0.061807308 | I37: =-I24/I14 -> 0.057382863 | J37: =-J24/J14 -> 0.057977122 | K37: 0.055 | L37: =K37+$S$37 -> 0.05625 | M37: =L37+$S$37 -> 0.0575 | N37: =M37+$S$37 -> 0.05875 | O37: =N37+$S$37 -> 0.06 | Q37: Step | R37: 0.06 | S37: =(R37-K37)/($O$30-$K$30) -> 0.00125
B38: Gross margin | F38: =F16/F14 -> 0.39319453 | G38: =G16/G14 -> 0.39431112 | H38: =H16/H14 -> 0.34157555 | I38: =I16/I14 -> 0.3733347 | J38: =J16/J14 -> 0.38990281 | K38: =K16/K14 -> 0.38 | L38: =L16/L14 -> 0.38125 | M38: =M16/M14 -> 0.3825 | ... O38: =O16/O14 -> 0.385
A40: x | B40: TERMINAL VALUE AND EQUITY VALUE PER SHARE
F42: Terminal Value - Perpetuity Growth | K42: Terminal Value - Exit Multiple | P42: Option Drag
F43: Unlevered FCF in terminal year | H43: =O26 -> 1336.8736 | K43: Terminal year EBITDA | N43: =O19+O23 -> 2467.0627 | P43: Implied Equity Value (Using TV)
F44: Terminal growth rate | H44: 0.015 | K44: Terminal year EBITDA multiple | N44: 9.6 | P44: Basic Shares
F45: Terminal value | H45: =(H43*(1+H44))/(H46-H44) -> 26204.126 | K45: Terminal value | N45: =N43*N44 -> 23683.802 | P45: Value of Options
F46: WACC - current | H46: =$F$119 -> 0.066782943 | K46: WACC - current | N46: =$F$119 -> 0.066782943 | P46: Implied Equity Value per Share
F47: PV of Terminal Value | H47: =H45/(1+H46)^(O13-J13) -> 18966.594 | K47: PV of Terminal Value | N47: =-PV(N46,O13-J13,,N45) -> 17142.379
P48: Treasury Outstanding Options
F49: PV of Unlevered Free Cash Flows | H49: =NPV(H46,K26:O26) -> 5279.1144 | K49: PV of Unlevered Free Cash Flows | N49: =NPV(N46,K26:O26) -> 5279.1144 | P49: Implied Equity Value | S49: =N52 -> 16696.094
...

Sheet Possible_Comps
B2: Industry | C2: Alcoholic Beverage Distributors
B4: Source | C4: Peers
B5: Proxy Statement | C5: General Mills, Inc. Heineken NV The Hershey Company Hormel Foods Corporation The J. M. Smucker Company Kellanova Keurig Dr Pepper Inc. The Kraft Heinz Company McCormick & Company, Incorporated Monster Beverage Corporation. Brown-Forman Corporation Campbell Soup Company Carlsberg A/S The Clorox Company Coca-Cola European Partners Plc Colgate-Palmolive Company Conagra Brands, Inc. Constellation Brands, Inc. Diageo plc
B6: TAP 10K (comp) | C6: Anheuser-Busch InBev SA/NV ("ABI"), Constellation Brands, Inc., Heineken, Asahi, Carlsberg.
B7: Industry (SIC code: 2082) | C7: 5,002 firms
B8: Seeking Alpha | C8: Compañía Cervecerías Unidas S.A., The Boston Beer Company, Inc., Carlsberg A/S, Ambev S.A., and Heineken N.V.
B9: Mergent | C9: SAB : XHC – Saigon Beer Alcohol Beverage Corp, BHN : XHC – Hanoi Beer Alcohol and Beverage Joint Stock Corp, MBG : IDX – Multi Bintang Indonesia Tbk PT, CVZ : SGO – Compañía Cervecerías Unidas S.A., ASBR : TKS – Asahi Group Holdings, CSB : KRX – Hitejinro Holdings Co, CBP : KRX – Hitejinro Holdings Co, KB@N : TKS – Kirin Holdings Co, THB : HST – Thanh Hoa Beer, TBL : DAR – Tanzania Breweries PLC.
B10: Capital IQ | C10: Constellation Brands, Inc. (NYSE:STZ), The Boston Beer Company, Inc. (NYSE:SAM), Brown-Forman Corporation (NYSE:BF.B), Carlsberg A/S (CPSE:CARL B), PepsiCo, Inc. (NasdaqGS:PEP), Kirin Holdings Company, Limited (TSE:2503), Ambev S.A. (BOVESPA:ABEV3), Asahi Group Holdings, Ltd. (TSE:2502), Tsingtao Brewery Company Limited (SHSE:600600), China Resources Beer (Holdings) Company Limited (SEHK:291).
B11: Morningstar | C11: Boston Beer Company, Heinekein, and Constellation Brands
B12: ChatGPT | C12: Primary Global Brewer Peers (closest matches) 1. Anheuser-Busch InBev (ABI) 2. Heineken N.V. 3. Carlsberg A/S 4. Asahi Group Holdings 5. Ambev S.A. North American Alcohol Peers 6. Constellation Brands 7. The Boston Beer Company (SAM). Supplementary Beverage / Consumer Staples Peers (Cash Flow + Cost Structure) 8. Brown-Forman Corporation 9. Keurig Dr Pepper 10. Monster Beverage (high growth; useful to bracket valuation multiples)

Sheet Selecting_Comps
B2: List of Possible Competitors | C2: Ticker | D2: Source | E2: Business Description | F2: Exchange | G2: LTM Gross Margin % | H2: LTM EBITDA Margin % | I2: LTM EBIT Margin % | J2: LTM Net Income Margin % | K2: LTM Total Revenues, 1 Yr Growth % | L2: LTM EBITDA, 1 Yr Growth % | M2: LTM EBIT, 1 Yr Growth % | N2: LTM Net Income, 1 Yr Growth % | O2: LTM Total Debt/Capital % | P2: LTM Total Debt/EBITDA | Q2: NTM LT EPS Growth Rate (Capital IQ) | R2: 5 Year Beta
B3: Constellation Brands, Inc. | C3: STZ | D3: CapitalIQ, Morningstar, 10-K | E3: A leading international producer and marketer of beer, wine, and spirits with operations in the U.S., Mexico, New Zealand, and Italy, building brands that people love to elevate human connections. | F3: NYSE | G3: 0.519 | H3: 0.376 | I3: 0.331 | J3: 0.127 | K3: -0.0556 | L3: -0.0662 | M3: -0.074 | N3: 1.1099 | O3: 0.5752 | P3: 2.9 | Q3: -0.0249 | R3: 0.46
B4: Brown‑Forman Corporation | C4: BF.B | D4: CapitalIQ | E4: An American family-controlled publicly traded company that manufactures, markets, and sells alcoholic beverages, enriching life by responsibly building fine quality beverage alcohol brands. | F4: NYSE | G4: 0.59 | H4: 0.307 | I4: 0.285 | J4: 0.2138 | K4: -0.035 | L4: 0.0125 | M4: 0.0144 | N4: -0.1457 | O4: 0.4038 | P4: 2.1 | Q4: 0.0203 | R4: 0.41
B5: The Boston Beer Company, Inc. | C5: SAM | D5: CapitalIQ, Morningstar | E5: One of the largest and most respected craft brewers in the US, producing and selling alcohol beverages including beers, hard seltzers, malt beverages, spirits, and hard cider throughout the United States and in selected international markets | F5: NYSE | G5: 0.477 | H5: 0.125 | I5: 0.08 | J5: 0.0466 | K5: -0.0113 | L5: 0.0091 | M5: 0.0251 | N5: 0.1484 | O5: 0.043 | P5: 0.2 | Q5: 0.121 | R5: 1.06
B6: The Coca-Cola Company | C6: KO | D6: CapitalIQ | E6: An American multinational corporation that manufactures, markets, and sells non-alcoholic beverages, including its flagship Coca-Cola brand, operating through a network of independent bottling partners, distributors, wholesalers, and retailers. | F6: NYSE | G6: 0.616 | H6: 0.342 | I6: 0.319 | J6: 0.2734 | K6: 0.028 | L6: 0.1139 | M6: 0.1214 | N6: 0.2519 | O6: 0.5915 | P6: 2.9 | Q6: 0.0656 | R6: 0.4
B7: Carlsberg A/S | C7: CARL B | D7: CapitalIQ, Seeking Alpha | E7: A Danish multinational brewer producing and marketing beers such as Carlsberg, Tuborg, and Kronenbourg, with operations in more than 150 markets worldwide. | F7: CPSE | G7: 0.458 | H7: 0.191 | I7: 0.14 | J7: 0.1089 | K7: 0.1 | L7: 0.1106 | M7: 0.106 | N7: - | O7: 0.7274 | P7: 4.6 | Q7: 0.0966 | R7: 0.5
B8: Kirin Holdings Company, Limited | C8: 2503 | D8: CapitalIQ | E8: A Japanese company engaged in the production and sale of alcoholic beverages like beer, as well as soft drinks, pharmaceuticals, and health science businesses. | F8: TSE | G8: 0.467 | H8: 0.129 | I8: 0.087 | J8: 0.0341 | K8: 0.0475 | L8: 0.0511 | M8: 0.0301 | N8: -0.2432 | O8: 0.4013 | P8: 3.2 | Q8: 0.2654 | R8: -0.04
B9: Ambev S.A. | C9: ABEV 3 | D9: CapitalIQ | E9: A Brazilian company that produces, distributes, and sells beer, draft beer, carbonated soft drinks, malt and food, other alcoholic beverages, and non-alcoholic and non-carbonated products in Brazil, Central America and Caribbean, Latin America South, and Canada. | F9: BOVESPA | G9: 0.518 | H9: 0.297 | I9: 0.254 | J9: 0.1773 | K9: 0.0979 | L9: 0.0945 | M9: 0.1641 | N9: 0.1501 | O9: 0.0303 | P9: 0.1 | Q9: 0.0614 | R9: 0.27
B10: Asahi Group Holdings, Ltd. | C10: 2502 | D10: CapitalIQ | E10: A Japanese beverage holding company that manufactures and sells beer, alcohol and non-alcohol beverages, and food products in Japan, Europe, Oceania, and Southeast Asia. | F10: TSE | G10: 0.373 | H10: 0.139 | I10: 0.085 | J10: 0.0597 | K10: 0.0086 | L10: -0.0219 | M10: -0.0391 | N10: -0.0012 | O10: 0.3511 | P10: 3.6 | Q10: 0.102 | R10: 0.2
B11: Tsingtao Brewery Company Limited | C11: 600600 | D11: CapitalIQ | E11: China's second largest brewery, producing and exporting Tsingtao beer with about 15% of domestic market share and accounting for half of China's national beer exports. | F11: SHSE | G11: 0.417 | H11: 0.188 | I11: 0.155 | J11: 0.1422 | K11: 0.0197 | L11: 0.1037 | M11: 0.1238 | N11: 0.0642 | O11: 0.0035 | P11: 0 | Q11: 0.0591 | R11: 0.73
B12: China Resources Beer (Holdings) Company Limited | C12: 291 | D12: CapitalIQ | E12: An investment holding company that manufactures, distributes, and sells beer products in Mainland China, offering its products under the Nong Li, Snow, and Jinsha brands. | F12: SEHK | G12: 0.439 | H12: 0.201 | I12: 0.143 | J12: 0.1499 | K12: 0.0007 | L12: 0.1318 | M12: 0.1637 | N12: 0.1179 | O12: 0.0283 | P12: 0.1 | Q12: 0.1085 | R12: 0.52
B13: Compañía Cervecerías Unidas S.A. | C13: CCU | D13: Seeking Alpha, | E13: Compañía Cervecerías Unidas S.A., together with its subsidiaries, operates as a diversified beverage company in Chile, Argentina, Bolivia, Colombia, Paraguay, and Uruguay. It operates through three segments: Chile, International Business, and Wine. | F13: SNSE | G13: 0.45 | H13: 0.123 | I13: 0.081 | J13: 0.045 | K13: 0.2053 | L13: 0.3424 | M13: 0.4919 | N13: 0.0598 | O13: 0.4415 | P13: 3.3 | Q13: 0.101 | R13: 0.2
B14: Anheuser-Busch InBev SA/NV | C14: ABI | D14: ChatGPT, 10-K | E14: Anheuser-Busch InBev SA/NV produces, distributes, exports, markets, and sells beer in North America, Middle Americas, South America, Europe, the Middle East, Africa, and the Asia Pacific. The company also provides spirits-based ready-to-drink and non-alcohol beverages. | F14: ENXTBR | G14: 0.559 | H14: 0.323 | I14: 0.263 | J14: 0.1041 | K14: -0.0134 | L14: 0.0265 | M14: 0.0333 | N14: -0.0656 | O14: 0.4534 | P14: 3.9 | Q14: 0.0859 | R14: 0.67
B15: Heineken Holding N.V. | C15: HEIO | D15: Morningstar, 10-K | E15: Heineken Holding N.V., together with its subsidiaries, engages in brewing and selling beer and cider in the Netherlands and internationally. The company’s portfolio consists of approximately 340 international, regional, local, and specialty beers and ciders. | F15: ENXTAM | G15: 0.365 | H15: 0.2 | I15: 0.136 | J15: 0.0317 | K15: -0.0484 | L15: 0.0242 | M15: 0.0156 | N15: 0.7244 | O15: 0.4689 | P15: 2.9 | Q15: - | R15: 0.52
B17: Molson Coors Beverage Company | C17: TAP | D17: Our company | E17: It manufactures, markets, and sells beer and other malt beverage products in the Americas, Europe, the Middle East, Africa, and the Asia Pacific. The company offers flavored malt beverages including hard seltzers, craft, spirits, and ready to drink beverages. | F17: NYSE | G17: 0.387 | H17: 0.215 | I17: 0.156 | J17: -0.1864 | K17: -0.0401 | L17: -0.003 | M17: 0.0076 | N17: - | O17: 0.3789 | P17: 2.6 | Q17: -0.0216 | R17: 0.45

Sheet TAP_Comps
B2: Molson Coors Valuation with Public Comparables
B3: Fiscal year ends in December USD in millions except per share data.
B4: Valuation for period ended | C4: 46022
B5: Ticker | C5: TAP
B6: Valuation Date | C6: 45978
B7: Company Name | C7: Molson Coors | H7: Enterprise Value Multiples | N7: Equity Value Multiples
F8: Market Value | G8: Enterprise | K8: Forward | L8: 2 year growth | M8: BV | N8: Forward | O8: Forward | P8: Price(Market)-
B9: Company | C9: Ticker | D9: Share price | F9: of Equity | G9: Value | H9: EV/Sales | I9: EV/EBIT | J9: EV/EBITDA | K9: EPS | L9: rate | M9: Equity | N9: P/E | O9: PEG | P9: to-Book
B10: Molson Coors Company | C10: TAP | D10: 46.51 | F10: 9189.4 | G10: 15021.9 | H10: 1.3 | I10: 8.6 | J10: 6 | K10: 5.52 | L10: 0.0098 | M10: 13452.7 | N10: =D10/K10 -> 8.4257246 | O10: =D10/(K10*L10*100) -> 8.5976782 | P10: =F10/M10 -> 0.68308964
B12: Constellation Brands, Inc. | C12: STZ | D12: 136.38 | F12: 23735.5 | G12: 34494.3 | H12: 3.6 | I12: 13.4 | J12: 11.5 | K12: 11.87 | L12: 0.0097 | M12: 7134.8 | N12: =D12/K12 -> 11.489469 | O12: =D12/(K12*L12*100) -> 11.844814 | P12: =F12/M12 -> 3.3267225
B13: Carlsberg A/S | C13: CARL B | D13: 799.6 | F13: 17027 | G13: 27569.8 | H13: 2.2 | I13: 14.5 | J13: 10.5 | K13: 9.43 | L13: 0.0747 | M13: 4764.4 | N13: =D13/K13 -> 84.793213 | O13: =D13/(K13*L13*100) -> 11.351166 | P13: =F13/M13 -> 3.5737973
B14: Asahi Group Holdings, Ltd. | C14: 2502 | D14: 12 | F14: 17219.6 | G14: 26116.3 | H14: 1.4 | I14: 16.3 | J14: 10 | K14: 0.77 | L14: 0.0725 | M14: 17221.3 | N14: =D14/K14 -> 15.584416 | O14: =D14/(K14*L14*100) -> 2.1495746 | P14: =F14/M14 -> 0.99990129
B15: Anheuser-Busch InBev SA/NV | C15: ABI | D15: 53.02 | F15: 120047.6 | G15: 200378.8 | H15: 3.5 | I15: 12.8 | J15: 10.1 | K15: 4.08 | L15: 0.0088 | M15: 88700 | N15: =D15/K15 -> 12.995098 | O15: =D15/(K15*L15*100) -> 14.767157 | P15: =F15/M15 -> 1.3534115
B16: Heineken Holding N.V. | C16: HEIO | D16: 61.55 | F16: 45901.3 | G16: 51379.4 | H16: 1.5 | I16: 10.7 | J16: 7 | K16: 5.83 | L16: 0.0161 | M16: 25696.3 | N16: =D16/K16 -> 10.557461 | O16: =D16/(K16*L16*100) -> 6.5574294 | P16: =F16/M16 -> 1.7863
B17: The Boston Beer Company, Inc. | C17: SAM | D17: 194.8 | F17: 2031.6 | G17: 1822.1 | H17: 0.9 | I17: 11.7 | J17: 7.1 | K17: 10.56 | L17: 0.0425 | M17: 916.2 | N17: =D17/K17 -> 18.44697 | O17: =D17/(K17*L17*100) -> 4.3404635 | P17: =F17/M17 -> 2.2174198
G24: High | H24: =MAX(H12:H17) -> 3.6 | I24: =MAX(I12:I17) -> 16.3 | J24: =MAX(J12:J17) -> 11.5 | N24: =MAX(N12:N17) -> 84.793213 | O24: =MAX(O12:O17) -> 14.767157 | P24: =MAX(P12:P17) -> 3.5737973
G25: Mean | H25: =AVERAGE(H12:H17) -> 2.1833333 | I25: =AVERAGE(I12:I17) -> 13.233333 | J25: =AVERAGE(J12:J17) -> 9.3666667 | N25: =AVERAGE(N12:N17) -> 25.644438 | O25: =AVERAGE(O12:O17) -> 8.5017674 | P25: =AVERAGE(P12:P17) -> 2.2095921
G26: Median | H26: =MEDIAN(H12:H17) -> 1.85 | I26: =MEDIAN(I12:I17) -> 13.1 | J26: =MEDIAN(J12:J17) -> 10.05 | N26: =MEDIAN(N12:N17) -> 14.289757 | O26: =MEDIAN(O12:O17) -> 8.9542979 | P26: =MEDIAN(P12:P17) -> 2.0018599
G27: Low | H27: =MIN(H12:H17) -> 0.9 | I27: =MIN(I12:I17) -> 10.7 | J27: =MIN(J12:J17) -> 7 | N27: =MIN(N12:N17) -> 10.557461 | O27: =MIN(O12:O17) -> 2.1495746 | P27: =MIN(P12:P17) -> 0.99990129
D30: Implied price per share | E30: Diluted shares outstanding | F30: Implied Equity Value | G30: Implied Enterprise Value | H30: Range of EV/Sales | I30: Range of EV/EBIT | J30: Range of EV/EBITDA | N30: Range of Forward P/E | O30: Range of Forward PEG | P30: Range of Price-to-Book
B31: Molson Coors | D31: =F31/E31 -> #REF! | E31: =TAP_DCF!I93 -> 194.72101 | F31: =G31-SUM(#REF!) -> #REF! | G31: =H31*#REF! -> #REF! | H31: =H26 -> 1.85
D32: =F32/E32 -> #REF! | E32: 194.72101 | F32: =G32-SUM(#REF!) -> #REF! | G32: =H32*#REF! -> #REF! | H32: =H25 -> 2.1833333
D33: =F33/E33 -> #REF! | E33: 194.72101 | F33: =G33-SUM(#REF!) -> #REF! | G33: =I33*#REF! -> #REF! | I33: =I26 -> 13.1
D34: =F34/E34 -> #REF! | E34: 194.72101 | F34: =G34-SUM(#REF!) -> #REF! | G34: =I34*#REF! -> #REF! | I34: =I25 -> 13.233333
D35: =F35/E35 -> #REF! | E35: 194.72101 | F35: =G35-SUM(#REF!) -> #REF! | G35: =J35*#REF! -> #REF! | J35: 7
D36: =F36/E36 -> #REF! | E36: 194.72101 | F36: =G36-SUM(#REF!) -> #REF! | G36: =J36*#REF! -> #REF! | J36: =J26 -> 10.05
D37: =N37*$K$10 -> 78.879458 | E37: 194.72101 | N37: =N26 -> 14.289757
D38: =N38*$K$10 -> 141.5573 | E38: 194.72101 | N38: =N25 -> 25.644438
D39: =O39*$K$10*$L$10*100 -> 45.991161 | E39: 194.72101 | O39: =O25 -> 8.5017674
D40: =O40*$K$10*$L$10*100 -> 48.43917 | E40: 194.72101 | O40: =O26 -> 8.9542979
D41: =F41/E41 -> 138.30259 | E41: 194.72101 | F41: =P41*$M$10 -> 26930.42 | P41: =P26 -> 2.0018599
D42: =F42/E42 -> 152.6542 | E42: 194.72101 | F42: =P42*$M$10 -> 29724.979 | P42: =P25 -> 2.2095921
B44: Molson Coors Additional Information:
B45: Net Debt= | C45: 5385
B46: Perferred Stock= | C46: 0
B47: NCI= | C47: 360.3

Sheet Relative Valuation Chart
A1: Molson Coors Relative Valuation Football Field Chart
B3: Fiscal year ends in December USD in millions except per share data.
B4: Valuation for period ended | C4: 46022
B5: Ticker | C5: TAP
B6: Valuation Date | C6: 45978
B7: Company Name | C7: Molson Coors Beverage Company | J7: Inputs
B8: Methodology | F8: Low | G8: Dif. | H8: High | J8: Low | K8: High | M8: Current share price
B9: ="Public comps EV/Sales range " &TEXT(J9,"0.0x")&"-"&TEXT(K9,"0.0x") -> Public comps EV/Sales range 1.9x-2.2x | F9: =TAP_Comps!D31 -> #REF! | G9: =H9-F9 -> #REF! | H9: =TAP_Comps!D32 -> #REF! | J9: =TAP_Comps!H31 -> 1.85 | K9: =TAP_Comps!H32 -> 2.1833333 | M9: =$D$4 -> 0
B10: ="Public comps EV/EBIT range " &TEXT(J10,"0.0x")&"-"&TEXT(K10,"0.0x") -> Public comps EV/EBIT range 8.5x-9.0x | F10: =TAP_Comps!D39 -> 45.991161 | G10: =H10-F10 -> 2.4480092 | H10: =TAP_Comps!D40 -> 48.43917 | J10: =TAP_Comps!O39 -> 8.5017674 | K10: =TAP_Comps!O40 -> 8.9542979 | M10: =$D$4 -> 0
B11: ="Public comps EV/EBITDA range " &TEXT(J11,"0.0x")&"-"&TEXT(K11,"0.0x") -> Public comps EV/EBITDA range 7.0x-10.1x | F11: =TAP_Comps!D35 -> #REF! | G11: =H11-F11 -> #REF! | H11: =TAP_Comps!D36 -> #REF! | J11: =TAP_Comps!J35 -> 7 | K11: =TAP_Comps!J36 -> 10.05 | M11: =$D$4 -> 0
B12: ="Public comps Forward PEG range " &TEXT(J12,"0.0x")&"-"&TEXT(K12,"0.0x") -> Public comps Forward PEG range 8.5x-9.0x | F12: =TAP_DCF!E159 -> 39.891798 | G12: =H12-F12 -> 64.192619 | H12: =TAP_DCF!L159 -> 104.08442 | J12: =TAP_Comps!O39 -> 8.5017674 | K12: =TAP_Comps!O40 -> 8.9542979 | M12: =$D$4 -> 0
B13: ="Public comps Forward P/E range " &TEXT(J13,"0.0x")&"-"&TEXT(K13,"0.0x") -> Public comps Forward P/E range 14.3x-25.6x | F13: =TAP_Comps!D39 -> 45.991161 | G13: =H13-F13 -> 2.4480092 | H13: =TAP_Comps!D40 -> 48.43917 | J13: =TAP_Comps!N37 -> 14.289757 | K13: =TAP_Comps!N38 -> 25.644438 | M13: =$D$4 -> 0
B14: ="Public comps Price-to-Book range " &TEXT(J14,"0.0x")&"-"&TEXT(K14,"0.0x") -> Public comps Price-to-Book range 2.0x-2.2x | F14: =TAP_Comps!D41 -> 138.30259 | G14: =H14-F14 -> 14.351604 | H14: =TAP_Comps!D42 -> 152.6542 | J14: =TAP_Comps!P41 -> 2.0018599 | K14: =TAP_Comps!P42 -> 2.2095921 | M14: =$D$4 -> 0
B15: 52 week high-low | F15: 42.94 | G15: =H15-F15 -> 21.72 | H15: 64.66 | M15: =$D$4 -> 0

Sheet TAP Football Field
A1: Molson Coors Valuation Football Field Chart
B3: Fiscal year ends in December USD in millions except per share data.
B4: Valuation for period ended | C4: 46022
B5: Ticker | C5: TAP
B6: Valuation Date | C6: 45978
B7: Company Name | C7: Molson Coors Beverage Company
B8: Methodology | D8: Low | E8: Dif. | F8: High | H8: Low | I8: High | K8: Current share price
B9: ="Public comps EV/Sales range " &TEXT(H9,"0.0x")&"-"&TEXT(I9,"0.0x") -> Public comps EV/Sales range 1.9x-2.2x | D9: =TAP_Comps!D31 -> #REF! | E9: =F9-D9 -> #REF! | F9: =TAP_Comps!D32 -> #REF! | H9: =TAP_Comps!H31 -> 1.85 | I9: =TAP_Comps!H32 -> 2.1833333 | K9: 45.13
B10: ="Public comps Forward PEG range " &TEXT(H10,"0.0x")&"-"&TEXT(I10,"0.0x") -> Public comps Forward PEG range 8.5x-9.0x | D10: =TAP_Comps!D39 -> 45.991161 | E10: =F10-D10 -> 2.4480092 | F10: =TAP_Comps!D40 -> 48.43917 | H10: =TAP_Comps!O39 -> 8.5017674 | I10: =TAP_Comps!O40 -> 8.9542979 | K10: 45.13
B11: ="DCF w/ perpetuity growth range " &TEXT(H11,"0.0%")&"-"&TEXT(I11,"0.0%") -> DCF w/ perpetuity growth range 0.5%-4.0% | D11: =TAP_DCF!H146 -> 81.775835 | E11: =F11-D11 -> 124.52481 | F11: =TAP_DCF!H153 -> 206.30065 | H11: =TAP_DCF!C146 -> 0.005 | I11: =TAP_DCF!C153 -> 0.04 | K11: 45.13
B12: ="DCF w/ EBITDA exit multiple range " &TEXT(H12,"0.0x")&"-"&TEXT(I12,"0.0x") -> DCF w/ EBITDA exit multiple range 4.6x-11.6x | D12: =TAP_DCF!E159 -> 39.891798 | E12: =F12-D12 -> 64.192619 | F12: =TAP_DCF!L159 -> 104.08442 | H12: =TAP_DCF!E158 -> 4.6 | I12: =TAP_DCF!L158 -> 11.6 | K12: 45.13
B13: 52 week high-low | D13: 42.94 | E13: =F13-D13 -> 21.72 | F13: 64.66 | K13: 45.13

Sheet Income Statement
A1: Molson Coors Beverage Company (NYSE:TAP) > Financials > Income Statement
A3: In Millions of the reported currency, except per share items. | B3: Template: | C3: Standard | E3: Restatement: | F3: Latest Filings
B4: Period Type: | C4: Annual | E4: Order: | F4: Latest on Right
B5: Currency: | C5: Reported Currency | E5: Conversion: | F5: Historical
B6: Units: | C6: S&P Capital IQ (Default) | E6: Decimals: | F6: Capital IQ (Default)
B7: Source: | C7: Capital IQ & Proprietary Data
A10: Income Statement
A11: For the Fiscal Period Ending | B11: 2020 | C11: =B11+1 -> 2021 | D11: =C11+1 -> 2022 | E11: =D11+1 -> 2023 | F11: =E11+1 -> 2024
A12: Currency | B12: USD | C12: USD | D12: USD | E12: USD | F12: USD
A13: Revenue | B13: 9654 | C13: 10279.7 | D13: 10701 | E13: 11702.1 | F13: 11627
A14: Other Revenue | B14: - | C14: - | D14: - | E14: - | F14: -
A15: Total Revenue | B15: 9654 | C15: 10279.7 | D15: 10701 | E15: 11702.1 | F15: 11627
A17: Cost Of Goods Sold | B17: 5858.1 | C17: 6226.3 | D17: 7045.8 | E17: 7333.3 | F17: 7093.6
A18: Gross Profit | B18: 3795.9 | C18: 4053.4 | D18: 3655.2 | E18: 4368.8 | F18: 4533.4
A20: Selling General & Admin Exp. | B20: 2186.7 | C20: 2290.1 | D20: 2318.1 | E20: 2562.4 | F20: 2516.1
A21: R & D Exp. | B21: - | C21: - | D21: - | E21: - | F21: -
A22: Depreciation & Amort. | B22: - | C22: - | D22: - | E22: - | F22: -
